BEGIN:VCALENDAR
VERSION:2.0
PRODID:-//wp-events-plugin.com//6.6.1//EN
TZID:Europe/Berlin
X-WR-TIMEZONE:Europe/Berlin
BEGIN:VEVENT
UID:9@karneval-doemitz.de
DTSTART;TZID=Europe/Berlin:20140208T100000
DTEND;TZID=Europe/Berlin:20140208T100000
DTSTAMP:20130807T184858Z
URL:https://www.karneval-doemitz.de/termine/kartenvorverkauf-2/
SUMMARY:Kartenvorverkauf
DESCRIPTION:
LOCATION:Kaufhaus Dömitz\, Slüterplatz 3\, Dömitz\, 19303\, Deutschland
GEO:53.1413954;11.250084300000026
X-APPLE-STRUCTURED-LOCATION;VALUE=URI;X-ADDRESS=Slüterplatz 3\, Dömitz\, 
 19303\, Deutschland;X-APPLE-RADIUS=100;X-TITLE=Kaufhaus Dömitz:geo:53.141
 3954,11.250084300000026
END:VEVENT
BEGIN:VTIMEZONE
TZID:Europe/Berlin
X-LIC-LOCATION:Europe/Berlin
BEGIN:STANDARD
DTSTART:20131027T020000
TZOFFSETFROM:+0200
TZOFFSETTO:+0100
TZNAME:CET
END:STANDARD
END:VTIMEZONE
END:VCALENDAR