BEGIN:VCALENDAR
VERSION:2.0
PRODID:-//wp-events-plugin.com//6.6.1//EN
TZID:Europe/Berlin
X-WR-TIMEZONE:Europe/Berlin
BEGIN:VEVENT
UID:86@karneval-doemitz.de
DTSTART;TZID=Europe/Berlin:20231028T100000
DTEND;TZID=Europe/Berlin:20231028T100000
DTSTAMP:20230503T064727Z
URL:https://www.karneval-doemitz.de/termine/kartenvorverkauf-3/
SUMMARY:Kartenvorverkauf
DESCRIPTION:Sichern Sie sich die besten Karten für die kommende Saison und
  seien Sie hautnah dabei\, wenn das Geheimnis um die neuen Prinzenpaare de
 s DCC gelüftet wird.
LOCATION:Elb-Café Dömitz\, Werderstraße 5\, Dömitz\, 19303\, Deutschlan
 d
GEO:53.14082819999999;11.253205900000012
X-APPLE-STRUCTURED-LOCATION;VALUE=URI;X-ADDRESS=Werderstraße 5\, Dömitz\,
  19303\, Deutschland;X-APPLE-RADIUS=100;X-TITLE=Elb-Café Dömitz:geo:53.1
 4082819999999,11.253205900000012
END:VEVENT
BEGIN:VTIMEZONE
TZID:Europe/Berlin
X-LIC-LOCATION:Europe/Berlin
BEGIN:DAYLIGHT
DTSTART:20230326T030000
TZOFFSETFROM:+0100
TZOFFSETTO:+0200
TZNAME:CEST
END:DAYLIGHT
END:VTIMEZONE
END:VCALENDAR