BEGIN:VCALENDAR
VERSION:2.0
PRODID:-//wp-events-plugin.com//6.6.1//EN
TZID:Europe/Berlin
X-WR-TIMEZONE:Europe/Berlin
BEGIN:VEVENT
UID:100@karneval-doemitz.de
DTSTART;TZID=Europe/Berlin:20250301T193000
DTEND;TZID=Europe/Berlin:20250301T223000
DTSTAMP:20250114T125842Z
URL:https://www.karneval-doemitz.de/termine/programmabend-3-2/
SUMMARY:Programmabend #3
DESCRIPTION:
END:VEVENT
BEGIN:VTIMEZONE
TZID:Europe/Berlin
X-LIC-LOCATION:Europe/Berlin
BEGIN:STANDARD
DTSTART:20241027T020000
TZOFFSETFROM:+0200
TZOFFSETTO:+0100
TZNAME:CET
END:STANDARD
END:VTIMEZONE
END:VCALENDAR