BEGIN:VCALENDAR
VERSION:2.0
PRODID:-//wp-events-plugin.com//6.6.1//EN
TZID:Europe/Berlin
X-WR-TIMEZONE:Europe/Berlin
BEGIN:VEVENT
UID:83@karneval-doemitz.de
DTSTART;TZID=Europe/Berlin:20230916T180000
DTEND;TZID=Europe/Berlin:20230916T180000
DTSTAMP:20230503T063949Z
URL:https://www.karneval-doemitz.de/termine/spieleabend-im-kulturhaus/
SUMMARY:Spieleabend im Kulturhaus
DESCRIPTION:
LOCATION:Kulturhaus Dömitz\, Promenade\, Dömitz\, Mecklenburg-Vorpommern\
 , 19303\, Deutschland
GEO:53.14379;11.249320000000012
X-APPLE-STRUCTURED-LOCATION;VALUE=URI;X-ADDRESS=Promenade\, Dömitz\, Meckl
 enburg-Vorpommern\, 19303\, Deutschland;X-APPLE-RADIUS=100;X-TITLE=Kulturh
 aus Dömitz:geo:53.14379,11.249320000000012
END:VEVENT
BEGIN:VTIMEZONE
TZID:Europe/Berlin
X-LIC-LOCATION:Europe/Berlin
BEGIN:DAYLIGHT
DTSTART:20230326T030000
TZOFFSETFROM:+0100
TZOFFSETTO:+0200
TZNAME:CEST
END:DAYLIGHT
END:VTIMEZONE
END:VCALENDAR