BEGIN:VCALENDAR
VERSION:2.0
PRODID:-//wp-events-plugin.com//6.6.1//EN
TZID:Europe/Berlin
X-WR-TIMEZONE:Europe/Berlin
BEGIN:VEVENT
UID:17@karneval-doemitz.de
DTSTART;TZID=Europe/Berlin:20140302T140000
DTEND;TZID=Europe/Berlin:20140302T140000
DTSTAMP:20140108T170958Z
URL:https://www.karneval-doemitz.de/termine/strassenkarneval-mit-umzug/
SUMMARY:Straßenkarneval mit Umzug
DESCRIPTION:
END:VEVENT
BEGIN:VTIMEZONE
TZID:Europe/Berlin
X-LIC-LOCATION:Europe/Berlin
BEGIN:STANDARD
DTSTART:20131027T020000
TZOFFSETFROM:+0200
TZOFFSETTO:+0100
TZNAME:CET
END:STANDARD
END:VTIMEZONE
END:VCALENDAR